BEGIN:VCALENDAR
VERSION:2.0
PRODID:-//Sabre//Sabre VObject 4.5.8//EN
CALSCALE:GREGORIAN
BEGIN:VEVENT
UID:sabre-vobject-a9feabd9-6e67-4563-8f2f-ed1b04c87592
DTSTAMP:20260422T033723Z
SUMMARY:30 Minuten Musik in den Ulrichskirchen
DESCRIPTION:https://ulrich-afra-anton.de/30-minuten-musik-in-den-ulrichskir
 chen_id15092
DTSTART;TZID=Europe/Berlin:20260511T190000
DURATION:PT30M
LOCATION:Evangelisch St. Ulrich\, Ulrichsplatz 17\, 86150 Augsburg
END:VEVENT
END:VCALENDAR
