BEGIN:VCALENDAR
VERSION:2.0
PRODID:-//Sabre//Sabre VObject 4.5.8//EN
CALSCALE:GREGORIAN
BEGIN:VEVENT
UID:sabre-vobject-5d4c3907-ee80-4f8d-ba15-2bbfed4b210b
DTSTAMP:20260421T221244Z
SUMMARY:Firmung 2026 - Liturgische Probe
DESCRIPTION:https://ulrich-afra-anton.de/firmung-2026-liturgische-probe_id1
 5106
DTSTART;TZID=Europe/Berlin:20260626T150000
DURATION:PT30M
LOCATION:Basilika St. Ulrich und Afra\, \, 86150 Augsburg
END:VEVENT
END:VCALENDAR
