BEGIN:VCALENDAR
VERSION:2.0
PRODID:-//Sabre//Sabre VObject 4.5.8//EN
CALSCALE:GREGORIAN
BEGIN:VEVENT
UID:sabre-vobject-c9cabbe1-4ee2-46d0-9f4c-e4e85b2b829c
DTSTAMP:20260421T222216Z
SUMMARY:Firmung 2026 - Firmspendung
DESCRIPTION:https://ulrich-afra-anton.de/firmung-2026-firmspendung_id15107
DTSTART;TZID=Europe/Berlin:20260627T100000
DURATION:PT30M
LOCATION:Basilika St. Ulrich und Afra\, \, 86150 Augsburg
END:VEVENT
END:VCALENDAR
