BEGIN:VCALENDAR
VERSION:2.0
PRODID:-//Sabre//Sabre VObject 4.5.8//EN
CALSCALE:GREGORIAN
BEGIN:VEVENT
UID:sabre-vobject-175e7eb5-271e-4b0a-9260-59fdd817eb3d
DTSTAMP:20260419T133612Z
SUMMARY:Vorabendmesse gestaltet als "Nightfever" 
DESCRIPTION:https://ulrich-afra-anton.de/vorabendmesse-gestaltet-als-nightf
 ever_id16234
DTSTART;TZID=Europe/Berlin:20260221T180000
DURATION:PT30M
LOCATION:Basilika St. Ulrich und Afra\, \, 86150 Augsburg
END:VEVENT
END:VCALENDAR
