BEGIN:VCALENDAR
VERSION:2.0
PRODID:-//Sabre//Sabre VObject 4.5.8//EN
CALSCALE:GREGORIAN
BEGIN:VEVENT
UID:sabre-vobject-ba27cc49-e28f-429b-806f-85797776e88f
DTSTAMP:20260421T221911Z
SUMMARY:Versöhnungsweg der Firmung
DESCRIPTION:https://ulrich-afra-anton.de/versoehnungsweg-der-firmung_id1631
 7
DTSTART;TZID=Europe/Berlin:20260618T000000
DTEND;TZID=Europe/Berlin:20260619T000000
LOCATION:Pfarrheim St. Ulrich und Afra\, Ulrichsplatz 16\, 86150 Augsburg
END:VEVENT
END:VCALENDAR
