BEGIN:VCALENDAR
VERSION:2.0
PRODID:-//Sabre//Sabre VObject 4.5.8//EN
CALSCALE:GREGORIAN
BEGIN:VEVENT
UID:sabre-vobject-26b84194-e2d8-4bb1-b6ce-91dda55fe3a5
DTSTAMP:20260422T053411Z
SUMMARY:30 Minuten Musik in den Ulrichskirchen
DESCRIPTION:https://ulrich-afra-anton.de/30-minuten-musik-in-den-ulrichskir
 chen_id16326
DTSTART;TZID=Europe/Berlin:20260504T190000
DURATION:PT30M
LOCATION:Basilika St. Ulrich und Afra\, \, 86150 Augsburg
END:VEVENT
END:VCALENDAR
