BEGIN:VCALENDAR
VERSION:2.0
PRODID:-//Sabre//Sabre VObject 4.5.8//EN
CALSCALE:GREGORIAN
BEGIN:VEVENT
UID:sabre-vobject-afd5a00c-ac9b-48f8-82eb-7c3d1353d50e
DTSTAMP:20260421T215234Z
SUMMARY:30 Minuten Musik in den Ulrichskirchen
DESCRIPTION:https://ulrich-afra-anton.de/30-minuten-musik-in-den-ulrichskir
 chen_id16327
DTSTART;TZID=Europe/Berlin:20260525T190000
DURATION:PT30M
LOCATION:Evangelisch St. Ulrich\, Ulrichsplatz 17\, 86150 Augsburg
END:VEVENT
END:VCALENDAR
