BEGIN:VCALENDAR
VERSION:2.0
PRODID:-//Sabre//Sabre VObject 4.5.8//EN
CALSCALE:GREGORIAN
BEGIN:VEVENT
UID:sabre-vobject-a509100a-23da-4c9d-9d73-567b19e52dea
DTSTAMP:20260422T014630Z
SUMMARY:30 Minuten Musik in den Ulrichskirchen
DESCRIPTION:https://ulrich-afra-anton.de/30-minuten-musik-in-den-ulrichskir
 chen_id16328
DTSTART;TZID=Europe/Berlin:20260518T190000
DURATION:PT30M
LOCATION:Basilika St. Ulrich und Afra\, \, 86150 Augsburg
END:VEVENT
END:VCALENDAR
