BEGIN:VCALENDAR
VERSION:2.0
PRODID:-//Sabre//Sabre VObject 4.5.8//EN
CALSCALE:GREGORIAN
BEGIN:VEVENT
UID:sabre-vobject-f9fa8711-7203-452d-b8c2-7e5339929fc7
DTSTAMP:20260424T051357Z
SUMMARY:Pfarrgottesdienst am Pfingstsonntag
DESCRIPTION:https://ulrich-afra-anton.de/pfarrgottesdienst-am-pfingstsonnta
 g_id16696
DTSTART;TZID=Europe/Berlin:20260524T103000
DURATION:PT30M
LOCATION:Basilika St. Ulrich und Afra\, \, 86150 Augsburg
END:VEVENT
END:VCALENDAR
