BEGIN:VCALENDAR
VERSION:2.0
PRODID:-//Sabre//Sabre VObject 4.5.8//EN
CALSCALE:GREGORIAN
BEGIN:VEVENT
UID:sabre-vobject-f4cdcb56-f34f-4fd6-9715-a28c4e6306f1
DTSTAMP:20260425T135315Z
SUMMARY:FAIRE Waren
DESCRIPTION:https://ulrich-afra-anton.de/faire-waren_id16727
DTSTART;TZID=Europe/Berlin:20260503T103000
DURATION:PT30M
LOCATION:Basilika St. Ulrich und Afra\, \, 86150 Augsburg
END:VEVENT
END:VCALENDAR
