BEGIN:VCALENDAR
VERSION:2.0
PRODID:-//Sabre//Sabre VObject 4.5.8//EN
CALSCALE:GREGORIAN
BEGIN:VEVENT
UID:sabre-vobject-b01adc86-a8c9-4449-a0b7-19741d7cb33d
DTSTAMP:20260422T090121Z
SUMMARY:2. Elternabend für die Erstkommunionkinder aus St. Ulrich und Afra
DESCRIPTION:https://ulrich-afra-anton.de/2-elternabend-fuer-die-erstkommuni
 onkinder-aus-st-ulrich-und-afra_id17150
DTSTART;TZID=Europe/Berlin:20260305T190000
DURATION:PT30M
LOCATION:Pfarrheim St. Ulrich und Afra\, Ulrichsplatz 16\, 86150 Augsburg
END:VEVENT
END:VCALENDAR
