BEGIN:VCALENDAR
VERSION:2.0
PRODID:-//Sabre//Sabre VObject 4.5.8//EN
CALSCALE:GREGORIAN
BEGIN:VEVENT
UID:sabre-vobject-c214b3f7-c232-47b1-93f1-c9be846d74ff
DTSTAMP:20260425T202026Z
SUMMARY:Vorabendmesse
DESCRIPTION:https://ulrich-afra-anton.de/vorabendmesse_id20299
DTSTART;TZID=Europe/Berlin:20260509T153000
DURATION:PT30M
LOCATION:St. Anton\, Imhofstraße 47\, 86159 Augsburg
END:VEVENT
END:VCALENDAR
