BEGIN:VCALENDAR
VERSION:2.0
PRODID:-//Sabre//Sabre VObject 4.5.8//EN
CALSCALE:GREGORIAN
BEGIN:VEVENT
UID:sabre-vobject-a90ec78b-e03b-43a3-b41c-c5f4e168223c
DTSTAMP:20260425T205623Z
SUMMARY:Vorabendmesse
DESCRIPTION:https://ulrich-afra-anton.de/vorabendmesse_id20300
DTSTART;TZID=Europe/Berlin:20260509T180000
DURATION:PT30M
LOCATION:St. Anton\, Imhofstraße 47\, 86159 Augsburg
END:VEVENT
END:VCALENDAR
