BEGIN:VCALENDAR
VERSION:2.0
PRODID:-//Sabre//Sabre VObject 4.5.8//EN
CALSCALE:GREGORIAN
BEGIN:VEVENT
UID:sabre-vobject-caff1d53-9de4-403b-bcad-e4498f4371f0
DTSTAMP:20260425T163624Z
SUMMARY:Maiandacht mit den Erstkommunionkindern
DESCRIPTION:https://ulrich-afra-anton.de/maiandacht-mit-den-erstkommunionki
 ndern_id20304
DTSTART;TZID=Europe/Berlin:20260508T180000
DURATION:PT30M
LOCATION:St. Anton\, Imhofstraße 47\, 86159 Augsburg
END:VEVENT
END:VCALENDAR
