BEGIN:VCALENDAR
VERSION:2.0
PRODID:-//Sabre//Sabre VObject 4.5.8//EN
CALSCALE:GREGORIAN
BEGIN:VEVENT
UID:sabre-vobject-63d27690-6cd9-4790-8ffa-02eee2c6b8ae
DTSTAMP:20260425T203352Z
SUMMARY:Vorabendmesse
DESCRIPTION:https://ulrich-afra-anton.de/vorabendmesse_id20306
DTSTART;TZID=Europe/Berlin:20260502T153000
DURATION:PT30M
LOCATION:St. Anton\, Imhofstraße 47\, 86159 Augsburg
END:VEVENT
END:VCALENDAR
