BEGIN:VCALENDAR
VERSION:2.0
PRODID:-//Sabre//Sabre VObject 4.5.8//EN
CALSCALE:GREGORIAN
BEGIN:VEVENT
UID:sabre-vobject-5f1031b0-1d6c-4762-8bc0-b27dca7823b7
DTSTAMP:20260425T183801Z
SUMMARY:Vorabendmesse
DESCRIPTION:https://ulrich-afra-anton.de/vorabendmesse_id20307
DTSTART;TZID=Europe/Berlin:20260502T180000
DURATION:PT30M
LOCATION:St. Anton\, Imhofstraße 47\, 86159 Augsburg
END:VEVENT
END:VCALENDAR
