BEGIN:VCALENDAR
VERSION:2.0
PRODID:-//Sabre//Sabre VObject 4.5.8//EN
CALSCALE:GREGORIAN
BEGIN:VEVENT
UID:sabre-vobject-b792fc8d-9006-49e7-8550-75ae0af2b907
DTSTAMP:20260425T145837Z
SUMMARY:Pfarrgottesdienst
DESCRIPTION:https://ulrich-afra-anton.de/pfarrgottesdienst_id20308
DTSTART;TZID=Europe/Berlin:20260503T100000
DURATION:PT30M
LOCATION:St. Anton\, Imhofstraße 47\, 86159 Augsburg
END:VEVENT
END:VCALENDAR
