BEGIN:VCALENDAR
VERSION:2.0
PRODID:-//Sabre//Sabre VObject 4.5.8//EN
CALSCALE:GREGORIAN
BEGIN:VEVENT
UID:sabre-vobject-e5c49512-c5da-4ffa-a1dc-353f4149db9b
DTSTAMP:20260425T163638Z
SUMMARY:Festgottesdienst mit Erstkommunion
DESCRIPTION:https://ulrich-afra-anton.de/festgottesdienst-mit-erstkommunion
 _id20313
DTSTART;TZID=Europe/Berlin:20260426T100000
DURATION:PT30M
LOCATION:St. Anton\, Imhofstraße 47\, 86159 Augsburg
END:VEVENT
END:VCALENDAR
