BEGIN:VCALENDAR
VERSION:2.0
PRODID:-//Sabre//Sabre VObject 4.5.8//EN
CALSCALE:GREGORIAN
BEGIN:VEVENT
UID:sabre-vobject-377a0859-0bf5-433e-9ab1-3d6654081667
DTSTAMP:20260425T144942Z
SUMMARY:Dankandacht mit den Erstkommunionkindern
DESCRIPTION:https://ulrich-afra-anton.de/dankandacht-mit-den-erstkommunionk
 indern_id20314
DTSTART;TZID=Europe/Berlin:20260426T180000
DURATION:PT30M
LOCATION:St. Anton\, Imhofstraße 47\, 86159 Augsburg
END:VEVENT
END:VCALENDAR
