BEGIN:VCALENDAR
VERSION:2.0
PRODID:-//Sabre//Sabre VObject 4.5.8//EN
CALSCALE:GREGORIAN
BEGIN:VEVENT
UID:sabre-vobject-a3e2eec6-3ed3-42c7-bd98-eb61f44997b7
DTSTAMP:20260425T162111Z
SUMMARY:Hl. Messe
DESCRIPTION:https://ulrich-afra-anton.de/hl-messe_id20315
DTSTART;TZID=Europe/Berlin:20260428T180000
DURATION:PT30M
LOCATION:St. Anton\, Imhofstraße 47\, 86159 Augsburg
END:VEVENT
END:VCALENDAR
