BEGIN:VCALENDAR
VERSION:2.0
PRODID:-//Sabre//Sabre VObject 4.5.8//EN
CALSCALE:GREGORIAN
BEGIN:VEVENT
UID:sabre-vobject-eae3b81c-4b61-4484-a57e-00da7291130b
DTSTAMP:20260423T200352Z
SUMMARY:Diakonenweihe
DESCRIPTION:https://ulrich-afra-anton.de/diakonenweihe_id20316
DTSTART;TZID=Europe/Berlin:20260502T093000
DURATION:PT30M
LOCATION:Basilika St. Ulrich und Afra\, \, 86150 Augsburg
END:VEVENT
END:VCALENDAR
