BEGIN:VCALENDAR
VERSION:2.0
PRODID:-//Sabre//Sabre VObject 4.5.8//EN
CALSCALE:GREGORIAN
BEGIN:VEVENT
UID:sabre-vobject-d5216dca-2406-48ea-b638-57b46fd40c11
DTSTAMP:20260425T184020Z
SUMMARY:Rosenkranz und Beichtgelegenheit
DESCRIPTION:https://ulrich-afra-anton.de/rosenkranz-und-beichtgelegenheit_i
 d20317
DTSTART;TZID=Europe/Berlin:20260515T173000
DURATION:PT30M
LOCATION:St. Ulrich und Afra\, Ulrichsplatz 19\, 86150 Augsburg
END:VEVENT
END:VCALENDAR
