BEGIN:VCALENDAR
VERSION:2.0
PRODID:-//Sabre//Sabre VObject 4.5.8//EN
CALSCALE:GREGORIAN
BEGIN:VEVENT
UID:sabre-vobject-d0f21df5-23c7-45ea-a900-d26774ec23fe
DTSTAMP:20260425T143437Z
SUMMARY:Hl. Messe\; anschl. Anbetung bis 19:00 Uhr
DESCRIPTION:https://ulrich-afra-anton.de/hl-messe-anschl-anbetung-bis-19-00
 -uhr_id20319
DTSTART;TZID=Europe/Berlin:20260515T180000
DURATION:PT30M
LOCATION:St. Ulrich und Afra\, Ulrichsplatz 19\, 86150 Augsburg
END:VEVENT
END:VCALENDAR
