BEGIN:VCALENDAR
VERSION:2.0
PRODID:-//Sabre//Sabre VObject 4.5.8//EN
CALSCALE:GREGORIAN
BEGIN:VEVENT
UID:sabre-vobject-34e05d74-e33b-4d0f-b984-3f466c82a3df
DTSTAMP:20260425T163456Z
SUMMARY:Tauffeier
DESCRIPTION:https://ulrich-afra-anton.de/tauffeier_id20320
DTSTART;TZID=Europe/Berlin:20260509T120000
DURATION:PT30M
LOCATION:St. Ulrich und Afra\, Ulrichsplatz 19\, 86150 Augsburg
END:VEVENT
END:VCALENDAR
