BEGIN:VCALENDAR
VERSION:2.0
PRODID:-//Sabre//Sabre VObject 4.5.8//EN
CALSCALE:GREGORIAN
BEGIN:VEVENT
UID:sabre-vobject-86aacd64-8b0a-47b2-a385-80ae86fbd383
DTSTAMP:20260425T143012Z
SUMMARY:Pfarrgottesdienst
DESCRIPTION:https://ulrich-afra-anton.de/pfarrgottesdienst_id20324
DTSTART;TZID=Europe/Berlin:20260510T103000
DURATION:PT30M
LOCATION:St. Ulrich und Afra\, Ulrichsplatz 19\, 86150 Augsburg
END:VEVENT
END:VCALENDAR
