BEGIN:VCALENDAR
VERSION:2.0
PRODID:-//Sabre//Sabre VObject 4.5.8//EN
CALSCALE:GREGORIAN
BEGIN:VEVENT
UID:sabre-vobject-2f5e6bd3-8561-4270-aee0-c03704067128
DTSTAMP:20260425T183804Z
SUMMARY:Maiandacht
DESCRIPTION:https://ulrich-afra-anton.de/maiandacht_id20331
DTSTART;TZID=Europe/Berlin:20260510T173000
DURATION:PT30M
LOCATION:St. Ulrich und Afra\, Ulrichsplatz 19\, 86150 Augsburg
END:VEVENT
END:VCALENDAR
