BEGIN:VCALENDAR
VERSION:2.0
PRODID:-//Sabre//Sabre VObject 4.5.8//EN
CALSCALE:GREGORIAN
BEGIN:VEVENT
UID:sabre-vobject-48a59fb6-1d5c-45d9-84d6-5f2f4b8754e9
DTSTAMP:20260426T023113Z
SUMMARY:Hl. Messe in St. Margaret\; anschl. Bittandacht
DESCRIPTION:https://ulrich-afra-anton.de/hl-messe-in-st-margaret-anschl-bit
 tandacht_id20335
DTSTART;TZID=Europe/Berlin:20260513T180000
DURATION:PT30M
LOCATION:St. Ulrich und Afra\, Ulrichsplatz 19\, 86150 Augsburg
END:VEVENT
END:VCALENDAR
