BEGIN:VCALENDAR
VERSION:2.0
PRODID:-//Sabre//Sabre VObject 4.5.8//EN
CALSCALE:GREGORIAN
BEGIN:VEVENT
UID:sabre-vobject-53a53d64-622f-4571-af47-326c0d5a4e04
DTSTAMP:20260425T222922Z
SUMMARY:Hl. Messe
DESCRIPTION:https://ulrich-afra-anton.de/hl-messe_id20338
DTSTART;TZID=Europe/Berlin:20260514T180000
DURATION:PT30M
LOCATION:St. Ulrich und Afra\, Ulrichsplatz 19\, 86150 Augsburg
END:VEVENT
END:VCALENDAR
