BEGIN:VCALENDAR
VERSION:2.0
PRODID:-//Sabre//Sabre VObject 4.5.8//EN
CALSCALE:GREGORIAN
BEGIN:VEVENT
UID:sabre-vobject-05aed60f-51ad-4785-8e5a-e172b0112ff8
DTSTAMP:20260425T144503Z
SUMMARY:Rosenkranz und Beichtgelegenheit
DESCRIPTION:https://ulrich-afra-anton.de/rosenkranz-und-beichtgelegenheit_i
 d20342
DTSTART;TZID=Europe/Berlin:20260502T173000
DURATION:PT30M
LOCATION:St. Ulrich und Afra\, Ulrichsplatz 19\, 86150 Augsburg
END:VEVENT
END:VCALENDAR
