BEGIN:VCALENDAR
VERSION:2.0
PRODID:-//Sabre//Sabre VObject 4.5.8//EN
CALSCALE:GREGORIAN
BEGIN:VEVENT
UID:sabre-vobject-171836f3-7006-4f0d-b48f-5b3ddc425154
DTSTAMP:20260425T144835Z
SUMMARY:Hl. Messe
DESCRIPTION:https://ulrich-afra-anton.de/hl-messe_id20344
DTSTART;TZID=Europe/Berlin:20260503T084500
DURATION:PT30M
LOCATION:St. Ulrich und Afra\, Ulrichsplatz 19\, 86150 Augsburg
END:VEVENT
END:VCALENDAR
