BEGIN:VCALENDAR
VERSION:2.0
PRODID:-//Sabre//Sabre VObject 4.5.8//EN
CALSCALE:GREGORIAN
BEGIN:VEVENT
UID:sabre-vobject-908177c4-1440-447b-8b9f-639e39394e40
DTSTAMP:20260425T144902Z
SUMMARY:Pfarrgottesdienst
DESCRIPTION:https://ulrich-afra-anton.de/pfarrgottesdienst_id20345
DTSTART;TZID=Europe/Berlin:20260503T103000
DURATION:PT30M
LOCATION:St. Ulrich und Afra\, Ulrichsplatz 19\, 86150 Augsburg
END:VEVENT
END:VCALENDAR
