BEGIN:VCALENDAR
VERSION:2.0
PRODID:-//Sabre//Sabre VObject 4.5.8//EN
CALSCALE:GREGORIAN
BEGIN:VEVENT
UID:sabre-vobject-6ae4892f-5098-4f43-af5e-927a47c07872
DTSTAMP:20260425T144832Z
SUMMARY:Tauffeier
DESCRIPTION:https://ulrich-afra-anton.de/tauffeier_id20346
DTSTART;TZID=Europe/Berlin:20260503T114500
DURATION:PT30M
LOCATION:St. Ulrich und Afra\, Ulrichsplatz 19\, 86150 Augsburg
END:VEVENT
END:VCALENDAR
