BEGIN:VCALENDAR
VERSION:2.0
PRODID:-//Sabre//Sabre VObject 4.5.8//EN
CALSCALE:GREGORIAN
BEGIN:VEVENT
UID:sabre-vobject-e8694bcb-c54e-4d17-8d15-2a7eb3f88ce4
DTSTAMP:20260425T144845Z
SUMMARY:Hl. Messe
DESCRIPTION:https://ulrich-afra-anton.de/hl-messe_id20348
DTSTART;TZID=Europe/Berlin:20260503T180000
DURATION:PT30M
LOCATION:St. Ulrich und Afra\, Ulrichsplatz 19\, 86150 Augsburg
END:VEVENT
END:VCALENDAR
