BEGIN:VCALENDAR
VERSION:2.0
PRODID:-//Sabre//Sabre VObject 4.5.8//EN
CALSCALE:GREGORIAN
BEGIN:VEVENT
UID:sabre-vobject-8dc222eb-13c3-4359-b310-8558920ad2c4
DTSTAMP:20260425T163632Z
SUMMARY:Trauung
DESCRIPTION:https://ulrich-afra-anton.de/trauung_id20352
DTSTART;TZID=Europe/Berlin:20260502T130000
DURATION:PT30M
LOCATION:St. Ulrich und Afra\, Ulrichsplatz 19\, 86150 Augsburg
END:VEVENT
END:VCALENDAR
