BEGIN:VCALENDAR
VERSION:2.0
PRODID:-//Sabre//Sabre VObject 4.5.8//EN
CALSCALE:GREGORIAN
BEGIN:VEVENT
UID:sabre-vobject-cf8d9977-b5df-429f-b697-e0cd4ad0fc99
DTSTAMP:20260425T163551Z
SUMMARY:Hl. Messe
DESCRIPTION:https://ulrich-afra-anton.de/hl-messe_id20353
DTSTART;TZID=Europe/Berlin:20260508T091500
DURATION:PT30M
LOCATION:St. Ulrich und Afra\, Ulrichsplatz 19\, 86150 Augsburg
END:VEVENT
END:VCALENDAR
