BEGIN:VCALENDAR
VERSION:2.0
PRODID:-//Sabre//Sabre VObject 4.5.8//EN
CALSCALE:GREGORIAN
BEGIN:VEVENT
UID:sabre-vobject-ce256867-ace6-49b6-979b-90f447953ffb
DTSTAMP:20260425T163826Z
SUMMARY:Gottesdienst im Sparkassenaltenheim
DESCRIPTION:https://ulrich-afra-anton.de/gottesdienst-im-sparkassenaltenhei
 m_id20354
DTSTART;TZID=Europe/Berlin:20260502T150000
DURATION:PT30M
LOCATION:St. Ulrich und Afra\, Ulrichsplatz 19\, 86150 Augsburg
END:VEVENT
END:VCALENDAR
