BEGIN:VCALENDAR
VERSION:2.0
PRODID:-//Sabre//Sabre VObject 4.5.8//EN
CALSCALE:GREGORIAN
BEGIN:VEVENT
UID:sabre-vobject-6ff88bf8-e400-4053-a704-b1e45d8c21cc
DTSTAMP:20260425T163459Z
SUMMARY:Rosenkranz und Beichtgelegenheit
DESCRIPTION:https://ulrich-afra-anton.de/rosenkranz-und-beichtgelegenheit_i
 d20355
DTSTART;TZID=Europe/Berlin:20260508T173000
DURATION:PT30M
LOCATION:St. Ulrich und Afra\, Ulrichsplatz 19\, 86150 Augsburg
END:VEVENT
END:VCALENDAR
