BEGIN:VCALENDAR
VERSION:2.0
PRODID:-//Sabre//Sabre VObject 4.5.8//EN
CALSCALE:GREGORIAN
BEGIN:VEVENT
UID:sabre-vobject-1259ea70-fbdd-4547-872d-6087b32bb9ed
DTSTAMP:20260425T163506Z
SUMMARY:Hl. Messe\; anschl. Anbetung bis 19:00 Uhr
DESCRIPTION:https://ulrich-afra-anton.de/hl-messe-anschl-anbetung-bis-19-00
 -uhr_id20356
DTSTART;TZID=Europe/Berlin:20260508T180000
DURATION:PT30M
LOCATION:St. Ulrich und Afra\, Ulrichsplatz 19\, 86150 Augsburg
END:VEVENT
END:VCALENDAR
