BEGIN:VCALENDAR
VERSION:2.0
PRODID:-//Sabre//Sabre VObject 4.5.8//EN
CALSCALE:GREGORIAN
BEGIN:VEVENT
UID:sabre-vobject-62212d13-afa7-4788-9a43-19f1f5c0f56c
DTSTAMP:20260425T165901Z
SUMMARY:Rosenkranz und Beichtgelegenheit
DESCRIPTION:https://ulrich-afra-anton.de/rosenkranz-und-beichtgelegenheit_i
 d20360
DTSTART;TZID=Europe/Berlin:20260507T173000
DURATION:PT30M
LOCATION:St. Ulrich und Afra\, Ulrichsplatz 19\, 86150 Augsburg
END:VEVENT
END:VCALENDAR
