BEGIN:VCALENDAR
VERSION:2.0
PRODID:-//Sabre//Sabre VObject 4.5.8//EN
CALSCALE:GREGORIAN
BEGIN:VEVENT
UID:sabre-vobject-a5ac6060-4f96-4520-b563-7cb3c255afa2
DTSTAMP:20260425T164947Z
SUMMARY:Maiandacht und Beichtgelegenheit
DESCRIPTION:https://ulrich-afra-anton.de/maiandacht-und-beichtgelegenheit_i
 d20361
DTSTART;TZID=Europe/Berlin:20260505T173000
DURATION:PT30M
LOCATION:St. Ulrich und Afra\, Ulrichsplatz 19\, 86150 Augsburg
END:VEVENT
END:VCALENDAR
