BEGIN:VCALENDAR
VERSION:2.0
PRODID:-//Sabre//Sabre VObject 4.5.8//EN
CALSCALE:GREGORIAN
BEGIN:VEVENT
UID:sabre-vobject-fa60eb74-a52b-4370-aeb7-670fbcc3c9de
DTSTAMP:20260425T142957Z
SUMMARY:Hl. Messe in St. Margaret
DESCRIPTION:https://ulrich-afra-anton.de/hl-messe-in-st-margaret_id20363
DTSTART;TZID=Europe/Berlin:20260506T180000
DURATION:PT30M
LOCATION:St. Ulrich und Afra\, Ulrichsplatz 19\, 86150 Augsburg
END:VEVENT
END:VCALENDAR
