BEGIN:VCALENDAR
VERSION:2.0
PRODID:-//Sabre//Sabre VObject 4.5.8//EN
CALSCALE:GREGORIAN
BEGIN:VEVENT
UID:sabre-vobject-f4e3a2f4-5b4e-465e-8c14-37457bad76eb
DTSTAMP:20260425T165826Z
SUMMARY:Rosenkranz und Beichtgelegenheit
DESCRIPTION:https://ulrich-afra-anton.de/rosenkranz-und-beichtgelegenheit_i
 d20369
DTSTART;TZID=Europe/Berlin:20260430T173000
DURATION:PT30M
LOCATION:St. Ulrich und Afra\, Ulrichsplatz 19\, 86150 Augsburg
END:VEVENT
END:VCALENDAR
