BEGIN:VCALENDAR
VERSION:2.0
PRODID:-//Sabre//Sabre VObject 4.5.8//EN
CALSCALE:GREGORIAN
BEGIN:VEVENT
UID:sabre-vobject-ad2282c3-17f1-4041-a69f-f29d6817fecd
DTSTAMP:20260425T152525Z
SUMMARY:Hl. Messe\; anschl. Anbetung
DESCRIPTION:https://ulrich-afra-anton.de/hl-messe-anschl-anbetung_id20370
DTSTART;TZID=Europe/Berlin:20260430T180000
DURATION:PT30M
LOCATION:St. Ulrich und Afra\, Ulrichsplatz 19\, 86150 Augsburg
END:VEVENT
END:VCALENDAR
