BEGIN:VCALENDAR
VERSION:2.0
PRODID:-//Sabre//Sabre VObject 4.5.8//EN
CALSCALE:GREGORIAN
BEGIN:VEVENT
UID:sabre-vobject-1bb09a41-b07c-406b-83f1-4d7b5c36ea0d
DTSTAMP:20260425T163838Z
SUMMARY:Hl. Messe
DESCRIPTION:https://ulrich-afra-anton.de/hl-messe_id20371
DTSTART;TZID=Europe/Berlin:20260501T103000
DURATION:PT30M
LOCATION:St. Ulrich und Afra\, Ulrichsplatz 19\, 86150 Augsburg
END:VEVENT
END:VCALENDAR
