BEGIN:VCALENDAR
VERSION:2.0
PRODID:-//Sabre//Sabre VObject 4.5.8//EN
CALSCALE:GREGORIAN
BEGIN:VEVENT
UID:sabre-vobject-6c0c3ffd-d68d-43b2-957e-98d65014daac
DTSTAMP:20260426T035801Z
SUMMARY:Vorabendmesse
DESCRIPTION:https://ulrich-afra-anton.de/vorabendmesse_id20372
DTSTART;TZID=Europe/Berlin:20260425T180000
DURATION:PT30M
LOCATION:St. Ulrich und Afra\, Ulrichsplatz 19\, 86150 Augsburg
END:VEVENT
END:VCALENDAR
