BEGIN:VCALENDAR
VERSION:2.0
PRODID:-//Sabre//Sabre VObject 4.5.8//EN
CALSCALE:GREGORIAN
BEGIN:VEVENT
UID:sabre-vobject-6b1d1a9d-aa05-4d08-9e01-94987fd84e21
DTSTAMP:20260426T002254Z
SUMMARY:Pfarrgottesdienst
DESCRIPTION:https://ulrich-afra-anton.de/pfarrgottesdienst_id20374
DTSTART;TZID=Europe/Berlin:20260426T103000
DURATION:PT30M
LOCATION:St. Ulrich und Afra\, Ulrichsplatz 19\, 86150 Augsburg
END:VEVENT
END:VCALENDAR
