BEGIN:VCALENDAR
VERSION:2.0
PRODID:-//Sabre//Sabre VObject 4.5.8//EN
CALSCALE:GREGORIAN
BEGIN:VEVENT
UID:sabre-vobject-559992fc-64bb-47d2-8208-05d39b81be34
DTSTAMP:20260425T163059Z
SUMMARY:Rosenkranz
DESCRIPTION:https://ulrich-afra-anton.de/rosenkranz_id20375
DTSTART;TZID=Europe/Berlin:20260426T173000
DURATION:PT30M
LOCATION:St. Ulrich und Afra\, Ulrichsplatz 19\, 86150 Augsburg
END:VEVENT
END:VCALENDAR
