BEGIN:VCALENDAR
VERSION:2.0
PRODID:-//Sabre//Sabre VObject 4.5.8//EN
CALSCALE:GREGORIAN
BEGIN:VEVENT
UID:sabre-vobject-fd3162d9-4c04-4c01-b079-0f63f7a75d66
DTSTAMP:20260425T164804Z
SUMMARY:Erste feierliche Maiandacht
DESCRIPTION:https://ulrich-afra-anton.de/erste-feierliche-maiandacht_id2039
 3
DTSTART;TZID=Europe/Berlin:20260501T173000
DURATION:PT30M
LOCATION:St. Ulrich und Afra\, Ulrichsplatz 19\, 86150 Augsburg
END:VEVENT
END:VCALENDAR
