BEGIN:VCALENDAR
VERSION:2.0
PRODID:-//Sabre//Sabre VObject 4.5.8//EN
CALSCALE:GREGORIAN
BEGIN:VEVENT
UID:sabre-vobject-c7d79e2d-0177-47bf-9d4a-fedc7f9a5287
DTSTAMP:20260425T163502Z
SUMMARY:Rosenkranz in St. Margaret
DESCRIPTION:https://ulrich-afra-anton.de/rosenkranz-in-st-margaret_id20394
DTSTART;TZID=Europe/Berlin:20260429T173000
DURATION:PT30M
LOCATION:St. Ulrich und Afra\, Ulrichsplatz 19\, 86150 Augsburg
END:VEVENT
END:VCALENDAR
