BEGIN:VCALENDAR
VERSION:2.0
PRODID:-//Sabre//Sabre VObject 4.5.8//EN
CALSCALE:GREGORIAN
BEGIN:VEVENT
UID:sabre-vobject-0e677921-55b3-485d-8883-dcf4af6cbc55
DTSTAMP:20260423T150912Z
SUMMARY:Maiandachten in St. Ulrich und Afra
DESCRIPTION:https://ulrich-afra-anton.de/maiandachten-in-st-ulrich-und-afra
 _id2209
DTSTART;TZID=Europe/Berlin:20260501T173000
DTEND;TZID=Europe/Berlin:20260531T173000
LOCATION:Basilika St. Ulrich und Afra\, \, 86150 Augsburg
END:VEVENT
END:VCALENDAR
